Workbook

Sheet 成绩公示表
A1: 附件：2025年菏泽市人民政府国有资产监督管理委员会公开招聘市属企业工作人员面试成绩及综合成绩公示表
A2: 报考岗位 | B2: 笔试准考证号 | C2: 笔试成绩 | D2: 面试成绩 | E2: 综合成绩 | F2: 综合排名
A3: 集控巡操员 | B3: 20251025078 | C3: =VLOOKUP(B3,[1]笔试成绩!$A$1:$D$65536,3,0) -> 80.69 | D3: 80.974 | E3: =SUM(C3:D3)/2 -> 80.832 | F3: 1
B4: 20251025143 | C4: =VLOOKUP(B4,[1]笔试成绩!$A$1:$D$65536,3,0) -> 72.63 | D4: 84.956 | E4: =SUM(C4:D4)/2 -> 78.793 | F4: 2
B5: 20251025163 | C5: =VLOOKUP(B5,[1]笔试成绩!$A$1:$D$65536,3,0) -> 74.58 | D5: 82.336 | E5: =SUM(C5:D5)/2 -> 78.458 | F5: 3
B6: 20251025237 | C6: =VLOOKUP(B6,[1]笔试成绩!$A$1:$D$65536,3,0) -> 68.52 | D6: 87.952 | E6: =SUM(C6:D6)/2 -> 78.236 | F6: 4
B7: 20251025061 | C7: =VLOOKUP(B7,[1]笔试成绩!$A$1:$D$65536,3,0) -> 72.78 | D7: 83.346 | E7: =SUM(C7:D7)/2 -> 78.063 | F7: 5
B8: 20251025003 | C8: =VLOOKUP(B8,[1]笔试成绩!$A$1:$D$65536,3,0) -> 66.5 | D8: 89.282 | E8: =SUM(C8:D8)/2 -> 77.891 | F8: 6
B9: 20251025009 | C9: =VLOOKUP(B9,[1]笔试成绩!$A$1:$D$65536,3,0) -> 72.52 | D9: 82.912 | E9: =SUM(C9:D9)/2 -> 77.716 | F9: 7
B10: 20251025198 | C10: =VLOOKUP(B10,[1]笔试成绩!$A$1:$D$65536,3,0) -> 70.4 | D10: 84.166 | E10: =SUM(C10:D10)/2 -> 77.283 | F10: 8
B11: 20251025208 | C11: =VLOOKUP(B11,[1]笔试成绩!$A$1:$D$65536,3,0) -> 73.61 | D11: 80.824 | E11: =SUM(C11:D11)/2 -> 77.217 | F11: 9
B12: 20251025190 | C12: =VLOOKUP(B12,[1]笔试成绩!$A$1:$D$65536,3,0) -> 66.71 | D12: 87.5 | E12: =SUM(C12:D12)/2 -> 77.105 | F12: 10
B13: 20251025041 | C13: =VLOOKUP(B13,[1]笔试成绩!$A$1:$D$65536,3,0) -> 70.51 | D13: 83.516 | E13: =SUM(C13:D13)/2 -> 77.013 | F13: 11
B14: 20251025229 | C14: =VLOOKUP(B14,[1]笔试成绩!$A$1:$D$65536,3,0) -> 71.44 | D14: 82.142 | E14: =SUM(C14:D14)/2 -> 76.791 | F14: 12
B15: 20251025236 | C15: =VLOOKUP(B15,[1]笔试成绩!$A$1:$D$65536,3,0) -> 70.65 | D15: 82.882 | E15: =SUM(C15:D15)/2 -> 76.766 | F15: 13
... B61: 20251025094 | C61: =VLOOKUP(B61,[1]笔试成绩!$A$1:$D$65536,3,0) -> 63.36 | D61: 72.306 | E61: =SUM(C61:D61)/2 -> 67.833 | F61: 59
B62: 20251025222 | C62: =VLOOKUP(B62,[1]笔试成绩!$A$1:$D$65536,3,0) -> 65.78 | D62: - | E62: - | F62: -
A63: 化学运行值班员 | B63: 20251025336 | C63: =VLOOKUP(B63,[1]笔试成绩!$A$1:$D$65536,3,0) -> 67.65 | D63: 87.12 | E63: =SUM(C63:D63)/2 -> 77.385 | F63: 1
B64: 20251025305 | C64: =VLOOKUP(B64,[1]笔试成绩!$A$1:$D$65536,3,0) -> 73.76 | D64: 80.68 | E64: =SUM(C64:D64)/2 -> 77.22 | F64: 2
B65: 20251025291 | C65: =VLOOKUP(B65,[1]笔试成绩!$A$1:$D$65536,3,0) -> 74.91 | D65: 77.4 | E65: =SUM(C65:D65)/2 -> 76.155 | F65: 3
B66: 20251025353 | C66: =VLOOKUP(B66,[1]笔试成绩!$A$1:$D$65536,3,0) -> 66.43 | D66: 85.84 | E66: =SUM(C66:D66)/2 -> 76.135 | F66: 4
B67: 20251025276 | C67: =VLOOKUP(B67,[1]笔试成绩!$A$1:$D$65536,3,0) -> 66.46 | D67: 85.4 | E67: =SUM(C67:D67)/2 -> 75.93 | F67: 5
B68: 20251025311 | C68: =VLOOKUP(B68,[1]笔试成绩!$A$1:$D$65536,3,0) -> 69.39 | D68: 82.12 | E68: =SUM(C68:D68)/2 -> 75.755 | F68: 6
B69: 20251025327 | C69: =VLOOKUP(B69,[1]笔试成绩!$A$1:$D$65536,3,0) -> 65.35 | D69: 85.82 | E69: =SUM(C69:D69)/2 -> 75.585 | F69: 7
B70: 20251025268 | C70: =VLOOKUP(B70,[1]笔试成绩!$A$1:$D$65536,3,0) -> 74.66 | D70: 75.02 | E70: =SUM(C70:D70)/2 -> 74.84 | F70: 8
B71: 20251025299 | C71: =VLOOKUP(B71,[1]笔试成绩!$A$1:$D$65536,3,0) -> 68.77 | D71: 80.56 | E71: =SUM(C71:D71)/2 -> 74.665 | F71: 9
B72: 20251025350 | C72: =VLOOKUP(B72,[1]笔试成绩!$A$1:$D$65536,3,0) -> 67.57 | D72: 81.6 | E72: =SUM(C72:D72)/2 -> 74.585 | F72: 10
B73: 20251025285 | C73: =VLOOKUP(B73,[1]笔试成绩!$A$1:$D$65536,3,0) -> 70.55 | D73: 78.3 | E73: =SUM(C73:D73)/2 -> 74.425 | F73: 11
B74: 20251025278 | C74: =VLOOKUP(B74,[1]笔试成绩!$A$1:$D$65536,3,0) -> 66.64 | D74: 81.7 | E74: =SUM(C74:D74)/2 -> 74.17 | F74: 12
B75: 20251025339 | C75: =VLOOKUP(B75,[1]笔试成绩!$A$1:$D$65536,3,0) -> 68.34 | D75: 79.74 | E75: =SUM(C75:D75)/2 -> 74.04 | F75: 13
... B105: 20251025349 | C105: =VLOOKUP(B105,[1]笔试成绩!$A$1:$D$65536,3,0) -> 58.63 | D105: 9.8 | E105: =SUM(C105:D105)/2 -> 34.215 | F105: 43
B106: 20251025294 | C106: =VLOOKUP(B106,[1]笔试成绩!$A$1:$D$65536,3,0) -> 61.34 | D106: - | E106: - | F106: -
B107: 20251025281 | C107: =VLOOKUP(B107,[1]笔试成绩!$A$1:$D$65536,3,0) -> 59.72 | D107: - | E107: - | F107: -
A108: 检修专业 | B108: 20251025377 | C108: =VLOOKUP(B108,[1]笔试成绩!$A$1:$D$65536,3,0) -> 69.53 | D108: 82.72 | E108: =SUM(C108:D108)/2 -> 76.125 | F108: 1
B109: 20251025407 | C109: =VLOOKUP(B109,[1]笔试成绩!$A$1:$D$65536,3,0) -> 66.32 | D109: 78.48 | E109: =SUM(C109:D109)/2 -> 72.4 | F109: 2
B110: 20251025403 | C110: =VLOOKUP(B110,[1]笔试成绩!$A$1:$D$65536,3,0) -> 65.81 | D110: 78.22 | E110: =SUM(C110:D110)/2 -> 72.015 | F110: 3
B111: 20251025363 | C111: =VLOOKUP(B111,[1]笔试成绩!$A$1:$D$65536,3,0) -> 64.12 | D111: 79.22 | E111: =SUM(C111:D111)/2 -> 71.67 | F111: 4
B112: 20251025393 | C112: =VLOOKUP(B112,[1]笔试成绩!$A$1:$D$65536,3,0) -> 59.53 | D112: 83.74 | E112: =SUM(C112:D112)/2 -> 71.635 | F112: 5
B113: 20251025384 | C113: =VLOOKUP(B113,[1]笔试成绩!$A$1:$D$65536,3,0) -> 64.55 | D113: 76.64 | E113: =SUM(C113:D113)/2 -> 70.595 | F113: 6
B114: 20251025405 | C114: =VLOOKUP(B114,[1]笔试成绩!$A$1:$D$65536,3,0) -> 62.31 | D114: 78.74 | E114: =SUM(C114:D114)/2 -> 70.525 | F114: 7
B115: 20251025370 | C115: =VLOOKUP(B115,[1]笔试成绩!$A$1:$D$65536,3,0) -> 67.58 | D115: 73.36 | E115: =SUM(C115:D115)/2 -> 70.47 | F115: 8
B116: 20251025414 | C116: =VLOOKUP(B116,[1]笔试成绩!$A$1:$D$65536,3,0) -> 63.4 | D116: 77.52 | E116: =SUM(C116:D116)/2 -> 70.46 | F116: 9
B117: 20251025420 | C117: =VLOOKUP(B117,[1]笔试成绩!$A$1:$D$65536,3,0) -> 63.4 | D117: 76.92 | E117: =SUM(C117:D117)/2 -> 70.16 | F117: 10
B118: 20251025409 | C118: =VLOOKUP(B118,[1]笔试成绩!$A$1:$D$65536,3,0) -> 60.61 | D118: 79.64 | E118: =SUM(C118:D118)/2 -> 70.125 | F118: 11
B119: 20251025421 | C119: =VLOOKUP(B119,[1]笔试成绩!$A$1:$D$65536,3,0) -> 63.72 | D119: 76.16 | E119: =SUM(C119:D119)/2 -> 69.94 | F119: 12
B120: 20251025382 | C120: =VLOOKUP(B120,[1]笔试成绩!$A$1:$D$65536,3,0) -> 62.74 | D120: 76.52 | E120: =SUM(C120:D120)/2 -> 69.63 | F120: 13
... B134: 20251025401 | C134: =VLOOKUP(B134,[1]笔试成绩!$A$1:$D$65536,3,0) -> 57.8 | D134: 67.04 | E134: =SUM(C134:D134)/2 -> 62.42 | F134: 27
B135: 20251025383 | C135: =VLOOKUP(B135,[1]笔试成绩!$A$1:$D$65536,3,0) -> 64.8 | D135: - | E135: - | F135: -
B136: 20251025387 | C136: =VLOOKUP(B136,[1]笔试成绩!$A$1:$D$65536,3,0) -> 56.29 | D136: - | E136: - | F136: -
B137: 20251025364 | C137: =VLOOKUP(B137,[1]笔试成绩!$A$1:$D$65536,3,0) -> 55.74 | D137: - | E137: - | F137: -
A138: 水汽运行化验员 | B138: 20251025431 | C138: =VLOOKUP(B138,[1]笔试成绩!$A$1:$D$65536,3,0) -> 69.6 | D138: 80.94 | E138: =SUM(C138:D138)/2 -> 75.27 | F138: 1
B139: 20251025429 | C139: =VLOOKUP(B139,[1]笔试成绩!$A$1:$D$65536,3,0) -> 67.51 | D139: 79.56 | E139: =SUM(C139:D139)/2 -> 73.535 | F139: 2
B140: 20251025452 | C140: =VLOOKUP(B140,[1]笔试成绩!$A$1:$D$65536,3,0) -> 65.56 | D140: 79.64 | E140: =SUM(C140:D140)/2 -> 72.6 | F140: 3
B141: 20251025434 | C141: =VLOOKUP(B141,[1]笔试成绩!$A$1:$D$65536,3,0) -> 67.44 | D141: 77.62 | E141: =SUM(C141:D141)/2 -> 72.53 | F141: 4
B142: 20251025454 | C142: =VLOOKUP(B142,[1]笔试成绩!$A$1:$D$65536,3,0) -> 68.59 | D142: 74.66 | E142: =SUM(C142:D142)/2 -> 71.625 | F142: 5
B143: 20251025457 | C143: =VLOOKUP(B143,[1]笔试成绩!$A$1:$D$65536,3,0) -> 66.64 | D143: 75.86 | E143: =SUM(C143:D143)/2 -> 71.25 | F143: 6
B144: 20251025436 | C144: =VLOOKUP(B144,[1]笔试成绩!$A$1:$D$65536,3,0) -> 63.79 | D144: 78.6 | E144: =SUM(C144:D144)/2 -> 71.195 | F144: 7
B145: 20251025448 | C145: =VLOOKUP(B145,[1]笔试成绩!$A$1:$D$65536,3,0) -> 65.46 | D145: 76.42 | E145: =SUM(C145:D145)/2 -> 70.94 | F145: 8
B146: 20251025424 | C146: =VLOOKUP(B146,[1]笔试成绩!$A$1:$D$65536,3,0) -> 66.5 | D146: 75.04 | E146: =SUM(C146:D146)/2 -> 70.77 | F146: 9
B147: 20251025453 | C147: =VLOOKUP(B147,[1]笔试成绩!$A$1:$D$65536,3,0) -> 66.57 | D147: 73.5 | E147: =SUM(C147:D147)/2 -> 70.035 | F147: 10
B148: 20251025444 | C148: =VLOOKUP(B148,[1]笔试成绩!$A$1:$D$65536,3,0) -> 63.51 | D148: 72.88 | E148: =SUM(C148:D148)/2 -> 68.195 | F148: 11
B149: 20251025428 | C149: =VLOOKUP(B149,[1]笔试成绩!$A$1:$D$65536,3,0) -> 59.81 | D149: 75.22 | E149: =SUM(C149:D149)/2 -> 67.515 | F149: 12
B150: 20251025438 | C150: =VLOOKUP(B150,[1]笔试成绩!$A$1:$D$65536,3,0) -> 61.52 | D150: 72.78 | E150: =SUM(C150:D150)/2 -> 67.15 | F150: 13
... B152: 20251025458 | C152: =VLOOKUP(B152,[1]笔试成绩!$A$1:$D$65536,3,0) -> 59.64 | D152: 71.84 | E152: =SUM(C152:D152)/2 -> 65.74 | F152: 15
A153: 法务岗 | B153: 20251025468 | C153: 69.67 | D153: 82.76 | E153: =SUM(C153:D153)/2 -> 76.215 | F153: 1
B154: 20251025465 | C154: 68.63 | D154: 83.3 | E154: =SUM(C154:D154)/2 -> 75.965 | F154: 2
B155: 20251025480 | C155: 66.78 | D155: 83.62 | E155: =SUM(C155:D155)/2 -> 75.2 | F155: 3
B156: 20251025467 | C156: 65.53 | D156: 81.54 | E156: =SUM(C156:D156)/2 -> 73.535 | F156: 4
B157: 20251025477 | C157: 65.77 | D157: 78.56 | E157: =SUM(C157:D157)/2 -> 72.165 | F157: 5
B158: 20251025473 | C158: 79.02 | D158: - | E158: - | F158: -
A159: 财务岗 | B159: 20251025544 | C159: 74.73 | D159: 83.88 | E159: =SUM(C159:D159)/2 -> 79.305 | F159: 1
B160: 20251025553 | C160: 73.58 | D160: 82.96 | E160: =SUM(C160:D160)/2 -> 78.27 | F160: 2
B161: 20251025546 | C161: 69.6 | D161: 86.36 | E161: =SUM(C161:D161)/2 -> 77.98 | F161: 3
B162: 20251025532 | C162: 71.84 | D162: 81.12 | E162: =SUM(C162:D162)/2 -> 76.48 | F162: 4
B163: 20251025529 | C163: 69.57 | D163: 83.38 | E163: =SUM(C163:D163)/2 -> 76.475 | F163: 5
B164: 20251025528 | C164: 68.51 | D164: 83.46 | E164: =SUM(C164:D164)/2 -> 75.985 | F164: 6
B165: 20251025541 | C165: 71.66 | D165: 80.12 | E165: =SUM(C165:D165)/2 -> 75.89 | F165: 7
B166: 20251025521 | C166: 68.59 | D166: 80.06 | E166: =SUM(C166:D166)/2 -> 74.325 | F166: 8
B167: 20251025504 | C167: 67.76 | D167: 78.64 | E167: =SUM(C167:D167)/2 -> 73.2 | F167: 9
A168: 党务岗 | B168: 20251025569 | C168: 71.59 | D168: 83.46 | E168: =SUM(C168:D168)/2 -> 77.525 | F168: 1
B169: 20251025579 | C169: 71.41 | D169: 82.64 | E169: =SUM(C169:D169)/2 -> 77.025 | F169: 2
B170: 20251025583 | C170: 68.59 | D170: 85.42 | E170: =SUM(C170:D170)/2 -> 77.005 | F170: 3
B171: 20251025580 | C171: 67.76 | D171: 84.74 | E171: =SUM(C171:D171)/2 -> 76.25 | F171: 4
B172: 20251025601 | C172: 66.53 | D172: 83.76 | E172: =SUM(C172:D172)/2 -> 75.145 | F172: 5
B173: 20251025614 | C173: 66.68 | D173: 82.84 | E173: =SUM(C173:D173)/2 -> 74.76 | F173: 6
A174: 综合岗 | B174: 20251025742 | C174: 88.74 | D174: 81.8 | E174: =SUM(C174:D174)/2 -> 85.27 | F174: 1
B175: 20251025748 | C175: 79.57 | D175: 83.12 | E175: =SUM(C175:D175)/2 -> 81.345 | F175: 2
B176: 20251025778 | C176: 78.37 | D176: 80.36 | E176: =SUM(C176:D176)/2 -> 79.365 | F176: 3
B177: 20251025652 | C177: 76.64 | D177: 81.54 | E177: =SUM(C177:D177)/2 -> 79.09 | F177: 4
B178: 20251025732 | C178: 71.95 | D178: 80.82 | E178: =SUM(C178:D178)/2 -> 76.385 | F178: 5
B179: 20251025717 | C179: 71.98 | D179: 79.06 | E179: =SUM(C179:D179)/2 -> 75.52 | F179: 6
