Workbook

Sheet 成绩公示表
A1: 附件：2025年菏泽市人民政府国有资产监督管理委员会公开招聘市属企业工作人员面试成绩及综合成绩公示表
A2: 报考岗位 | B2: 笔试准考证号 | C2: 笔试成绩 | D2: 面试成绩 | E2: 综合成绩 | F2: 综合排名
A3: 集控巡操员 | B3: 20251025078 | C3: =VLOOKUP(B3,[1]笔试成绩!$A$1:$D$65536,3,0) -> 80.69 | D3: 80.974 | E3: =SUM(C3:D3)/2 -> 80.832 | F3: 1
B4: 20251025143 | C4: =VLOOKUP(B4,[1]笔试成绩!$A$1:$D$65536,3,0) -> 72.63 | D4: 84.956 | E4: =SUM(C4:D4)/2 -> 78.793 | F4: 2
B5: 20251025163 | C5: =VLOOKUP(B5,[1]笔试成绩!$A$1:$D$65536,3,0) -> 74.58 | D5: 82.336 | E5: =SUM(C5:D5)/2 -> 78.458 | F5: 3
B6: 20251025237 | C6: =VLOOKUP(B6,[1]笔试成绩!$A$1:$D$65536,3,0) -> 68.52 | D6: 87.952 | E6: =SUM(C6:D6)/2 -> 78.236 | F6: 4
B7: 20251025061 | C7: =VLOOKUP(B7,[1]笔试成绩!$A$1:$D$65536,3,0) -> 72.78 | D7: 83.346 | E7: =SUM(C7:D7)/2 -> 78.063 | F7: 5
B8: 20251025003 | C8: =VLOOKUP(B8,[1]笔试成绩!$A$1:$D$65536,3,0) -> 66.5 | D8: 89.282 | E8: =SUM(C8:D8)/2 -> 77.891 | F8: 6
B9: 20251025009 | C9: =VLOOKUP(B9,[1]笔试成绩!$A$1:$D$65536,3,0) -> 72.52 | D9: 82.912 | E9: =SUM(C9:D9)/2 -> 77.716 | F9: 7
B10: 20251025198 | C10: =VLOOKUP(B10,[1]笔试成绩!$A$1:$D$65536,3,0) -> 70.4 | D10: 84.166 | E10: =SUM(C10:D10)/2 -> 77.283 | F10: 8
B11: 20251025208 | C11: =VLOOKUP(B11,[1]笔试成绩!$A$1:$D$65536,3,0) -> 73.61 | D11: 80.824 | E11: =SUM(C11:D11)/2 -> 77.217 | F11: 9
B12: 20251025190 | C12: =VLOOKUP(B12,[1]笔试成绩!$A$1:$D$65536,3,0) -> 66.71 | D12: 87.5 | E12: =SUM(C12:D12)/2 -> 77.105 | F12: 10
B13: 20251025041 | C13: =VLOOKUP(B13,[1]笔试成绩!$A$1:$D$65536,3,0) -> 70.51 | D13: 83.516 | E13: =SUM(C13:D13)/2 -> 77.013 | F13: 11
B14: 20251025229 | C14: =VLOOKUP(B14,[1]笔试成绩!$A$1:$D$65536,3,0) -> 71.44 | D14: 82.142 | E14: =SUM(C14:D14)/2 -> 76.791 | F14: 12
B15: 20251025236 | C15: =VLOOKUP(B15,[1]笔试成绩!$A$1:$D$65536,3,0) -> 70.65 | D15: 82.882 | E15: =SUM(C15:D15)/2 -> 76.766 | F15: 13
... B61: 20251025094 | C61: =VLOOKUP(B61,[1]笔试成绩!$A$1:$D$65536,3,0) -> 63.36 | D61: 72.306 | E61: =SUM(C61:D61)/2 -> 67.833 | F61: 59
B62: 20251025222 | C62: =VLOOKUP(B62,[1]笔试成绩!$A$1:$D$65536,3,0) -> 65.78 | D62: - | E62: - | F62: -
A63: 化学运行值班员 | B63: 20251025336 | C63: =VLOOKUP(B63,[1]笔试成绩!$A$1:$D$65536,3,0) -> 67.65 | D63: 87.12 | E63: =SUM(C63:D63)/2 -> 77.385 | F63: 1
B64: 20251025305 | C64: =VLOOKUP(B64,[1]笔试成绩!$A$1:$D$65536,3,0) -> 73.76 | D64: 80.68 | E64: =SUM(C64:D64)/2 -> 77.22 | F64: 2
B65: 20251025291 | C65: =VLOOKUP(B65,[1]笔试成绩!$A$1:$D$65536,3,0) -> 74.91 | D65: 77.4 | E65: =SUM(C65:D65)/2 -> 76.155 | F65: 3
B66: 20251025353 | C66: =VLOOKUP(B66,[1]笔试成绩!$A$1:$D$65536,3,0) -> 66.43 | D66: 85.84 | E66: =SUM(C66:D66)/2 -> 76.135 | F66: 4
B67: 20251025276 | C67: =VLOOKUP(B67,[1]笔试成绩!$A$1:$D$65536,3,0) -> 66.46 | D67: 85.4 | E67: =SUM(C67:D67)/2 -> 75.93 | F67: 5
B68: 20251025311 | C68: =VLOOKUP(B68,[1]笔试成绩!$A$1:$D$65536,3,0) -> 69.39 | D68: 82.12 | E68: =SUM(C68:D68)/2 -> 75.755 | F68: 6
B69: 20251025327 | C69: =VLOOKUP(B69,[1]笔试成绩!$A$1:$D$65536,3,0) -> 65.35 | D69: 85.82 | E69: =SUM(C69:D69)/2 -> 75.585 | F69: 7
B70: 20251025268 | C70: =VLOOKUP(B70,[1]笔试成绩!$A$1:$D$65536,3,0) -> 74.66 | D70: 75.02 | E70: =SUM(C70:D70)/2 -> 74.84 | F70: 8
B71: 20251025299 | C71: =VLOOKUP(B71,[1]笔试成绩!$A$1:$D$65536,3,0) -> 68.77 | D71: 80.56 | E71: =SUM(C71:D71)/2 -> 74.665 | F71: 9
B72: 20251025350 | C72: =VLOOKUP(B72,[1]笔试成绩!$A$1:$D$65536,3,0) -> 67.57 | D72: 81.6 | E72: =SUM(C72:D72)/2 -> 74.585 | F72: 10
B73: 20251025285 | C73: =VLOOKUP(B73,[1]笔试成绩!$A$1:$D$65536,3,0) -> 70.55 | D73: 78.3 | E73: =SUM(C73:D73)/2 -> 74.425 | F73: 11
B74: 20251025278 | C74: =VLOOKUP(B74,[1]笔试成绩!$A$1:$D$65536,3,0) -> 66.64 | D74: 81.7 | E74: =SUM(C74:D74)/2 -> 74.17 | F74: 12
B75: 20251025339 | C75: =VLOOKUP(B75,[1]笔试成绩!$A$1:$D$65536,3,0) -> 68.34 | D75: 79.74 | E75: =SUM(C75:D75)/2 -> 74.04 | F75: 13
... B105: 20251025349 | C105: =VLOOKUP(B105,[1]笔试成绩!$A$1:$D$65536,3,0) -> 58.63 | D105: 9.8 | E105: =SUM(C105:D105)/2 -> 34.215 | F105: 43
B106: 20251025294 | C106: =VLOOKUP(B106,[1]笔试成绩!$A$1:$D$65536,3,0) -> 61.34 | D106: - | E106: - | F106: -
B107: 20251025281 | C107: =VLOOKUP(B107,[1]笔试成绩!$A$1:$D$65536,3,0) -> 59.72 | D107: - | E107: - | F107: -
A108: 检修专业 | B108: 20251025377 | C108: =VLOOKUP(B108,[1]笔试成绩!$A$1:$D$65536,3,0) -> 69.53 | D108: 82.72 | E108: =SUM(C108:D108)/2 -> 76.125 | F108: 1
B109: 20251025407 | C109: =VLOOKUP(B109,[1]笔试成绩!$A$1:$D$65536,3,0) -> 66.32 | D109: 78.48 | E109: =SUM(C109:D109)/2 -> 72.4 | F109: 2
B110: 20251025403 | C110: =VLOOKUP(B110,[1]笔试成绩!$A$1:$D$65536,3,0) -> 65.81 | D110: 78.22 | E110: =SUM(C110:D110)/2 -> 72.015 | F110: 3
B111: 20251025363 | C111: =VLOOKUP(B111,[1]笔试成绩!$A$1:$D$65536,3,0) -> 64.12 | D111: 79.22 | E111: =SUM(C111:D111)/2 -> 71.67 | F111: 4
B112: 20251025393 | C112: =VLOOKUP(B112,[1]笔试成绩!$A$1:$D$65536,3,0) -> 59.53 | D112: 83.74 | E112: =SUM(C112:D112)/2 -> 71.635 | F112: 5
B113: 20251025384 | C113: =VLOOKUP(B113,[1]笔试成绩!$A$1:$D$65536,3,0) -> 64.55 | D113: 76.64 | E113: =SUM(C113:D113)/2 -> 70.595 | F113: 6
B114: 20251025405 | C114: =VLOOKUP(B114,[1]笔试成绩!$A$1:$D$65536,3,0) -> 62.31 | D114: 78.74 | E114: =SUM(C114:D114)/2 -> 70.525 | F114: 7
...
